BEGIN:VCALENDAR
VERSION:2.0
PRODID:-//CycleBradford - ECPv4.5.1//NONSGML v1.0//EN
CALSCALE:GREGORIAN
METHOD:PUBLISH
X-WR-CALNAME:CycleBradford
X-ORIGINAL-URL:http://www.cyclebradford.org.uk
X-WR-CALDESC:Events for CycleBradford
BEGIN:VEVENT
DTSTART;TZID=UTC+0:20170917T140000
DTEND;TZID=UTC+0:20170917T170000
DTSTAMP:20260424T061703
CREATED:20170908T124148Z
LAST-MODIFIED:20171026T124351Z
UID:3816-1505656800-1505667600@www.cyclebradford.org.uk
SUMMARY:Bolton Road Cycle Club Launch Event
DESCRIPTION:\n\nA fantastic community embedded cycling club in Bradford! See you there Satwant Singh :) — at Bolton Road Gurdwara. \n\nContact Satwant Singh - Satwant26@Yahoo.com or 07828762961 for details or to sign on.\n\n 
URL:http://www.cyclebradford.org.uk/event/bolton-road-cycle-club-launch-event/
LOCATION:Bradford\, United Kingdom
GEO:53.795984;-1.759398
END:VEVENT
END:VCALENDAR