BEGIN:VCALENDAR
VERSION:2.0
PRODID:-//CycleBradford - ECPv4.5.1//NONSGML v1.0//EN
CALSCALE:GREGORIAN
METHOD:PUBLISH
X-WR-CALNAME:CycleBradford
X-ORIGINAL-URL:http://www.cyclebradford.org.uk
X-WR-CALDESC:Events for CycleBradford
BEGIN:VEVENT
DTSTART;TZID=UTC+0:20170507T090000
DTEND;TZID=UTC+0:20170507T170000
DTSTAMP:20260424T013546
CREATED:20170501T153652Z
LAST-MODIFIED:20170501T153652Z
UID:3743-1494147600-1494176400@www.cyclebradford.org.uk
SUMMARY:Bradford Cycle Club Sunday ride
DESCRIPTION:\n\nAll Sunday rides start at the Pavilion in City Park\, Bradford except for second Sunday of the month where it starts at Odsal Stadium.  For more details see BCC Facebook page and events.
URL:http://www.cyclebradford.org.uk/event/bradford-cycle-club-sunday-ride/2017-05-07/
CATEGORIES:Group Rides
ATTACH;FMTTYPE=image/jpeg:http://www.cyclebradford.org.uk/wp-content/uploads/bcc-april-2nd.jpg
END:VEVENT
END:VCALENDAR