BEGIN:VCALENDAR
VERSION:2.0
PRODID:-//CycleBradford - ECPv4.5.1//NONSGML v1.0//EN
CALSCALE:GREGORIAN
METHOD:PUBLISH
X-WR-CALNAME:CycleBradford
X-ORIGINAL-URL:http://www.cyclebradford.org.uk
X-WR-CALDESC:Events for CycleBradford
BEGIN:VEVENT
DTSTART;TZID=UTC+0:20170503T181500
DTEND;TZID=UTC+0:20170503T181500
DTSTAMP:20260423T235742
CREATED:20170501T153919Z
LAST-MODIFIED:20170501T154233Z
UID:3752-1493835300-1493835300@www.cyclebradford.org.uk
SUMMARY:Bradford Cycle Club Wednesday ride
DESCRIPTION:Meet 6.15 at Pavilion Cafe in City Park.   The Wednesday ride is a fairly challenging ride and do rides with experience.  For details see BCC Facebook page.\n\n \n\n
URL:http://www.cyclebradford.org.uk/event/bradford-cycle-club-wednesday-ride/2017-05-03/
CATEGORIES:Group Rides
ATTACH;FMTTYPE=image/jpeg:http://www.cyclebradford.org.uk/wp-content/uploads/bcc-april-2nd.jpg
END:VEVENT
END:VCALENDAR