BEGIN:VCALENDAR
VERSION:2.0
PRODID:-//CycleBradford - ECPv4.5.1//NONSGML v1.0//EN
CALSCALE:GREGORIAN
METHOD:PUBLISH
X-WR-CALNAME:CycleBradford
X-ORIGINAL-URL:http://www.cyclebradford.org.uk
X-WR-CALDESC:Events for CycleBradford
BEGIN:VEVENT
DTSTART;TZID=UTC+0:20170511T100000
DTEND;TZID=UTC+0:20170512T170000
DTSTAMP:20260424T030710
CREATED:20170510T135918Z
LAST-MODIFIED:20170510T135920Z
UID:3776-1494496800-1494608400@www.cyclebradford.org.uk
SUMMARY:Cycle City Active City
DESCRIPTION:On 11th and 12th May\, the Cycle City Active City conference will be happening at the National Media Museum in Bradford. This is a national conference\, featuring mainly industry and local government speakers.\nThe Conference\nSeminars\, Study Tours\, Keynote presentations from senior figures\, plus plenty of networking opportunities.\nThe Exhibition\nThe Cycle City Active City exhibition provides delegates with the perfect platform to meet and network with cycle and walking infrastructure providers and put questions to the experts.\nWhy Bradford?\nIt is clear 2017 is going to be a pivotal year for cycling in Bradford. With the recently opened CityConnect Cycle Superhighway from Bradford to Leeds\, the stunning new public space in the heart of the city and Tour de Yorkshire and a huge amount of cycling-related activity yet to come.
URL:http://www.cyclebradford.org.uk/event/cycle-city-active-city/
LOCATION:Little Horton Ln\, Bradford \, Bradford\, BD1 1NQ\, United Kingdom
GEO:53.7905575;-1.7564597
X-APPLE-STRUCTURED-LOCATION;VALUE=URI;X-ADDRESS=Little Horton Ln Bradford  Bradford BD1 1NQ United Kingdom;X-APPLE-RADIUS=500;X-TITLE=Little Horton Ln\, Bradford:geo:-1.7564597,53.7905575
CATEGORIES:CityConnect,Featured,Workshops/Lectures
ATTACH;FMTTYPE=image/png:http://www.cyclebradford.org.uk/wp-content/uploads/Cycle-City-Active-City-Bradford-Dark.png
ORGANIZER;CN="Landor%20Links":MAILTO:business@landor.co.uk
END:VEVENT
END:VCALENDAR