BEGIN:VCALENDAR
VERSION:2.0
PRODID:-//CycleBradford - ECPv4.5.1//NONSGML v1.0//EN
CALSCALE:GREGORIAN
METHOD:PUBLISH
X-WR-CALNAME:CycleBradford
X-ORIGINAL-URL:http://www.cyclebradford.org.uk
X-WR-CALDESC:Events for CycleBradford
BEGIN:VEVENT
DTSTART;TZID=UTC+0:20170430T080000
DTEND;TZID=UTC+0:20170430T160000
DTSTAMP:20260423T185726
CREATED:20170207T162129Z
LAST-MODIFIED:20170425T215251Z
UID:3125-1493539200-1493568000@www.cyclebradford.org.uk
SUMMARY:Capital of Cycling - Tour de Yorkshire Sunday
DESCRIPTION:Fantastic range of activities to celebrate the arrival of the Tour de Yorkshire.\n\nJoin us at the Capital of Cycling and have a go on our adaptive bikes designed to cater for all ages and abilities. Alongside seeing the Tour de Yorkshire\, complete a slow or timed hill climb race\, track stand or wheelie challenges that we have on offer!\n\n\n \n\n\nWe will be running these at various locations on from The Capital of Cycling on opposite City Hall\, Around City Park and up Ivegate and Darley Street. \n\n\n \n\n\nThere are two sessions: 8am- 11am and another that runs 1pm - 4pm.\n\n\nEvent on Facebook\n\n \n\n\nSee you on race day!\n\nContact Tim on 07745 893200 for more information.
URL:http://www.cyclebradford.org.uk/event/tour-de-yorkshire-sunday/
LOCATION:Bradford\, United Kingdom
GEO:53.795984;-1.759398
CATEGORIES:Family / Kids,Group Rides,Race Event
ATTACH;FMTTYPE=image/jpeg:http://www.cyclebradford.org.uk/wp-content/uploads/Capital-of-cycling-logo.jpg
ORGANIZER;CN="Capital%20of%20Cycling":MAILTO:info@capitalofcycling.org
END:VEVENT
END:VCALENDAR